BEGIN:VCALENDAR
PRODID:Swiss Mango CMS
VERSION:2.0
METHOD:PUBLISH
BEGIN:VTIMEZONE
TZID:America/New_York
BEGIN:STANDARD
DTSTART:16011104T020000
RRULE:FREQ=YEARLY;BYDAY=1SU;BYMONTH=11
TZOFFSETFROM:-0400
TZOFFSETTO:-0500
END:STANDARD
BEGIN:DAYLIGHT
DTSTART:16010311T020000
RRULE:FREQ=YEARLY;BYDAY=2SU;BYMONTH=3
TZOFFSETFROM:-0500
TZOFFSETTO:-0400
END:DAYLIGHT
END:VTIMEZONE
BEGIN:VEVENT
UID:event-4@www.musicangelsusa.org
DTSTAMP:20260426T010955
DTSTART;TZID=America/New_York:20230331T190000
DTEND;TZID=America/New_York:20230331T210000
SUMMARY:A Musical Evening at Majestic Theater
DESCRIPTION:Music Angels Education Fund presents âA Musical Evening at Majestic Theaterâ on Friday\, March 31\, 2023 at 7:00 pm. The evening will begin with a short film presented by Living our Mission entitled 10 Scientifically-Proven Benefits of Music Education for Children. A concert will take place following the film\, featuring Kapprianah Anderson\, a Music Angels vocal and keyboard scholarship recipient.\nÂ \nCanta Libre\, a lively and energetic quintet of flute\, harp\, and strings\, direct from New York City. Refreshments will be served during intermission. The cost for the evening is a $50 donation with all funds benefitting the mission of Music Angels\, to provide scholarships for music lessons to talented\, committed children between the ages of 4 and 17 with financial needs. Doors open at 6:30 pm with the program beginning promptly at 7:00 pm. Majestic Theater is located at 940 14th Lane\, Vero Beach\, Florida
X-ALT-DESC;FMTTYPE=text/html:<!DOCTYPE html PUBLIC "-//W3C//DTD XHTML 1.0 Strict//EN" "http://www.w3.org/TR/xhtml1/DTD/xhtml1-strict.dtd">\n<html xmlns="http://www.w3.org/1999/xhtml" style="color: #000\; background: #FFF\;">\n<head>\n<meta http-equiv="Content-Type" content="text/html\; charset=utf-8">\n<title></title>\n</head>\n<body style="margin: 0\; padding: 0\;">\n<div id="body" style="padding: 0\; font: 13px/1.231 arial\,helvetica\,clean\,sans-serif\; margin: 0 auto\; width: 600px\;">\n<div style="margin: 0\; padding: 0\;">\n<div style="margin: 0\; padding: 0\;">Music Angels Education Fund presents â€œ<strong style="font-style: normal\; font-weight: bold\;">A Musical Evening at Majestic Theater</strong>â€ on Friday\, March 31\, 2023 at 7:00 pm. The evening will begin with a short film presented by Living our Mission entitled <strong style="font-style: normal\; font-weight: bold\;">10 Scientifically-Proven Benefits of Music Education for Children</strong>. A concert will take place following the film\, featuring <strong style="font-style: normal\; font-weight: bold\;">Kapprianah Anderson</strong>\, a Music Angels vocal and keyboard scholarship recipient.<br>\nÂ <br>\nCanta Libre\, a lively and energetic quintet of flute\, harp\, and strings\, direct from New York City. Refreshments will be served during intermission. The cost for the evening is a $50 donation with all funds benefitting the mission of Music Angels\, to provide scholarships for music lessons to talented\, committed children between the ages of 4 and 17 with financial needs. Doors open at 6:30 pm with the program beginning promptly at 7:00 pm. Majestic Theater is located at 940 14th Lane\, Vero Beach\, Florida</div>\n</div>\n</div>\n</body>\n</html>\n
CATEGORIES:Special Events
END:VEVENT
END:VCALENDAR
